BEGIN:VCALENDAR
CALSCALE:GREGORIAN
VERSION:2.0
X-WR-CALNAME:DynPEQ deep dive / AMA
METHOD:PUBLISH
PRODID:-//Apple Inc.//Mac OS X 10.13.6//EN
BEGIN:VTIMEZONE
TZID:America/Denver
BEGIN:DAYLIGHT
TZOFFSETFROM:-0700
RRULE:FREQ=YEARLY;BYMONTH=3;BYDAY=2SU
DTSTART:20070311T020000
TZNAME:MDT
TZOFFSETTO:-0600
END:DAYLIGHT
BEGIN:STANDARD
TZOFFSETFROM:-0600
RRULE:FREQ=YEARLY;BYMONTH=11;BYDAY=1SU
DTSTART:20071104T020000
TZNAME:MST
TZOFFSETTO:-0700
END:STANDARD
END:VTIMEZONE
BEGIN:VEVENT
TRANSP:OPAQUE
DTEND;TZID=America/Denver:20260429T160000
UID:20260423T024102Z-4111465725@web-prod-us02-va1-webok-dfb8885c8-qmdjj
DTSTAMP:20260423T024102Z
LOCATION:https://us02web.zoom.us/j/4111465725?pwd=VW5UTnFXc0NXY1lpTEJLVm
 9kUHluZz09&omn=85110831727
DESCRIPTION:Duane Wise is inviting you to a scheduled Zoom meeting.\nJoi
 n Zoom Meeting\nhttps://us02web.zoom.us/j/4111465725?pwd=VW5UTnFXc0NXY1l
 pTEJLVm9kUHluZz09&omn=85110831727\n\nMeeting ID: 411 146 5725\nPasscode:
  DynPEQAMA\n\n---\n\nJoin by SIP\n• 4111465725@zoomcrc.com\n\nJoin instr
 uctions\nhttps://us02web.zoom.us/meetings/85110831727/invitations?signat
 ure=e3YGp9_dOpcnRIFuq8HM82qhEJezLIqeG0gBfgyL_aA\n\n
TZID:America/Denver
SEQUENCE:0
X-APPLE-TRAVEL-ADVISORY-BEHAVIOR:AUTOMATIC
SUMMARY:DynPEQ deep dive / AMA
DTSTART;TZID=America/Denver:20260429T140000
CREATED:20260423T024107Z
BEGIN:VALARM
X-WR-ALARMUID:3D0FE8E9-1561-4AFA-9227-C58D319163A1
UID:3D0FE8E9-1561-4AFA-9227-C58D319163A1
TRIGGER:-PT10M
DESCRIPTION:Reminder
ACTION:DISPLAY
END:VALARM
END:VEVENT
END:VCALENDAR
